BEGIN:VCALENDAR
VERSION:2.0
PRODID:-//Raphael Village - ECPv6.15.20//NONSGML v1.0//EN
CALSCALE:GREGORIAN
METHOD:PUBLISH
X-ORIGINAL-URL:https://raphaelvillage.org
X-WR-CALDESC:Events for Raphael Village
REFRESH-INTERVAL;VALUE=DURATION:PT1H
X-Robots-Tag:noindex
X-PUBLISHED-TTL:PT1H
BEGIN:VTIMEZONE
TZID:UTC
BEGIN:STANDARD
TZOFFSETFROM:+0000
TZOFFSETTO:+0000
TZNAME:UTC
DTSTART:20200101T000000
END:STANDARD
END:VTIMEZONE
BEGIN:VEVENT
DTSTART;VALUE=DATE:20210329
DTEND;VALUE=DATE:20210403
DTSTAMP:20260424T044436
CREATED:20210302T013949Z
LAST-MODIFIED:20210302T013949Z
UID:10000165-1616976000-1617407999@raphaelvillage.org
SUMMARY:Spring Break - No School
DESCRIPTION:
URL:https://raphaelvillage.org/calendar/spring-break-no-school/
LOCATION:LA
CATEGORIES:Raphael Academy
END:VEVENT
BEGIN:VEVENT
DTSTART;VALUE=DATE:20210329
DTEND;VALUE=DATE:20210403
DTSTAMP:20260424T044436
CREATED:20210302T035754Z
LAST-MODIFIED:20210302T035754Z
UID:10000170-1616976000-1617407999@raphaelvillage.org
SUMMARY:Spring Break - Guild Closed
DESCRIPTION:
URL:https://raphaelvillage.org/calendar/spring-break-guild-closed/
LOCATION:LA
CATEGORIES:The Guild
END:VEVENT
BEGIN:VEVENT
DTSTART;VALUE=DATE:20210329
DTEND;VALUE=DATE:20210403
DTSTAMP:20260424T044436
CREATED:20210302T035925Z
LAST-MODIFIED:20210302T035925Z
UID:10000171-1616976000-1617407999@raphaelvillage.org
SUMMARY:Spring Break - All Programs & Offices Closed
DESCRIPTION:No school at Raphael Academy. \nGuild program closed. \nAll administrative offices closed.
URL:https://raphaelvillage.org/calendar/spring-break-all-programs-offices-closed/
LOCATION:LA
CATEGORIES:Raphael Village
END:VEVENT
END:VCALENDAR