BEGIN:VCALENDAR
VERSION:2.0
PRODID:-//Raphael Village - ECPv6.15.20//NONSGML v1.0//EN
CALSCALE:GREGORIAN
METHOD:PUBLISH
X-ORIGINAL-URL:https://raphaelvillage.org
X-WR-CALDESC:Events for Raphael Village
REFRESH-INTERVAL;VALUE=DURATION:PT1H
X-Robots-Tag:noindex
X-PUBLISHED-TTL:PT1H
BEGIN:VTIMEZONE
TZID:UTC
BEGIN:STANDARD
TZOFFSETFROM:+0000
TZOFFSETTO:+0000
TZNAME:UTC
DTSTART:20200101T000000
END:STANDARD
END:VTIMEZONE
BEGIN:VEVENT
DTSTART;VALUE=DATE:20210531
DTEND;VALUE=DATE:20210601
DTSTAMP:20260421T133426
CREATED:20210302T040011Z
LAST-MODIFIED:20210302T040030Z
UID:10000172-1622419200-1622505599@raphaelvillage.org
SUMMARY:Memorial Day - Guild Closed
DESCRIPTION:
URL:https://raphaelvillage.org/calendar/memorial-day-guild-closed/
LOCATION:LA
CATEGORIES:The Guild
END:VEVENT
BEGIN:VEVENT
DTSTART;VALUE=DATE:20210531
DTEND;VALUE=DATE:20210601
DTSTAMP:20260421T133426
CREATED:20210302T040154Z
LAST-MODIFIED:20210302T040154Z
UID:10000173-1622419200-1622505599@raphaelvillage.org
SUMMARY:Memorial Day - Admin Offices & Guild Closed
DESCRIPTION:
URL:https://raphaelvillage.org/calendar/memorial-day-admin-offices-guild-closed/
LOCATION:LA
CATEGORIES:Raphael Village
END:VEVENT
END:VCALENDAR