BEGIN:VCALENDAR
VERSION:2.0
PRODID:-//Raphael Village - ECPv6.15.20//NONSGML v1.0//EN
CALSCALE:GREGORIAN
METHOD:PUBLISH
X-ORIGINAL-URL:https://raphaelvillage.org
X-WR-CALDESC:Events for Raphael Village
REFRESH-INTERVAL;VALUE=DURATION:PT1H
X-Robots-Tag:noindex
X-PUBLISHED-TTL:PT1H
BEGIN:VTIMEZONE
TZID:America/Chicago
BEGIN:DAYLIGHT
TZOFFSETFROM:-0600
TZOFFSETTO:-0500
TZNAME:CDT
DTSTART:20200308T080000
END:DAYLIGHT
BEGIN:STANDARD
TZOFFSETFROM:-0500
TZOFFSETTO:-0600
TZNAME:CST
DTSTART:20201101T070000
END:STANDARD
BEGIN:DAYLIGHT
TZOFFSETFROM:-0600
TZOFFSETTO:-0500
TZNAME:CDT
DTSTART:20210314T080000
END:DAYLIGHT
BEGIN:STANDARD
TZOFFSETFROM:-0500
TZOFFSETTO:-0600
TZNAME:CST
DTSTART:20211107T070000
END:STANDARD
BEGIN:DAYLIGHT
TZOFFSETFROM:-0600
TZOFFSETTO:-0500
TZNAME:CDT
DTSTART:20220313T080000
END:DAYLIGHT
BEGIN:STANDARD
TZOFFSETFROM:-0500
TZOFFSETTO:-0600
TZNAME:CST
DTSTART:20221106T070000
END:STANDARD
END:VTIMEZONE
BEGIN:VEVENT
DTSTART;VALUE=DATE:20210830
DTEND;VALUE=DATE:20210909
DTSTAMP:20260420T182424
CREATED:20210909T212915Z
LAST-MODIFIED:20210909T212915Z
UID:10000182-1630281600-1631145599@raphaelvillage.org
SUMMARY:Closed Due to Hurricane Ida
DESCRIPTION:
URL:https://raphaelvillage.org/calendar/closed-due-to-hurricane-ida-2/
LOCATION:LA
CATEGORIES:The Guild
END:VEVENT
BEGIN:VEVENT
DTSTART;VALUE=DATE:20210830
DTEND;VALUE=DATE:20210911
DTSTAMP:20260420T182424
CREATED:20210909T212835Z
LAST-MODIFIED:20210909T212835Z
UID:10000181-1630281600-1631318399@raphaelvillage.org
SUMMARY:Closed Due to Hurricane Ida
DESCRIPTION:
URL:https://raphaelvillage.org/calendar/closed-due-to-hurricane-ida/
LOCATION:LA
CATEGORIES:Raphael Academy
END:VEVENT
BEGIN:VEVENT
DTSTART;VALUE=DATE:20210906
DTEND;VALUE=DATE:20210907
DTSTAMP:20260420T182424
CREATED:20210909T212611Z
LAST-MODIFIED:20210909T212627Z
UID:10000178-1630886400-1630972799@raphaelvillage.org
SUMMARY:Labor Day - No School
DESCRIPTION:
URL:https://raphaelvillage.org/calendar/labor-day-no-school/
LOCATION:LA
CATEGORIES:Raphael Academy
END:VEVENT
BEGIN:VEVENT
DTSTART;VALUE=DATE:20210906
DTEND;VALUE=DATE:20210907
DTSTAMP:20260420T182424
CREATED:20210909T212720Z
LAST-MODIFIED:20210909T212720Z
UID:10000179-1630886400-1630972799@raphaelvillage.org
SUMMARY:Labor Day - Guild Closed
DESCRIPTION:
URL:https://raphaelvillage.org/calendar/labor-day-guild-closed/
LOCATION:LA
CATEGORIES:The Guild
END:VEVENT
BEGIN:VEVENT
DTSTART;VALUE=DATE:20210906
DTEND;VALUE=DATE:20210907
DTSTAMP:20260420T182424
CREATED:20210909T212747Z
LAST-MODIFIED:20210909T212747Z
UID:10000180-1630886400-1630972799@raphaelvillage.org
SUMMARY:Labor Day - Offices Closed
DESCRIPTION:
URL:https://raphaelvillage.org/calendar/labor-day-offices-closed/
LOCATION:LA
CATEGORIES:Raphael Village
END:VEVENT
BEGIN:VEVENT
DTSTART;VALUE=DATE:20210909
DTEND;VALUE=DATE:20210910
DTSTAMP:20260420T182424
CREATED:20210909T213011Z
LAST-MODIFIED:20210909T213011Z
UID:10000184-1631145600-1631231999@raphaelvillage.org
SUMMARY:Program Resumes
DESCRIPTION:
URL:https://raphaelvillage.org/calendar/program-resumes/
LOCATION:LA
CATEGORIES:The Guild
END:VEVENT
END:VCALENDAR