BEGIN:VCALENDAR
VERSION:2.0
PRODID:-//Raphael Village - ECPv6.15.20//NONSGML v1.0//EN
CALSCALE:GREGORIAN
METHOD:PUBLISH
X-ORIGINAL-URL:https://raphaelvillage.org
X-WR-CALDESC:Events for Raphael Village
REFRESH-INTERVAL;VALUE=DURATION:PT1H
X-Robots-Tag:noindex
X-PUBLISHED-TTL:PT1H
BEGIN:VTIMEZONE
TZID:America/Chicago
BEGIN:DAYLIGHT
TZOFFSETFROM:-0600
TZOFFSETTO:-0500
TZNAME:CDT
DTSTART:20200308T080000
END:DAYLIGHT
BEGIN:STANDARD
TZOFFSETFROM:-0500
TZOFFSETTO:-0600
TZNAME:CST
DTSTART:20201101T070000
END:STANDARD
BEGIN:DAYLIGHT
TZOFFSETFROM:-0600
TZOFFSETTO:-0500
TZNAME:CDT
DTSTART:20210314T080000
END:DAYLIGHT
BEGIN:STANDARD
TZOFFSETFROM:-0500
TZOFFSETTO:-0600
TZNAME:CST
DTSTART:20211107T070000
END:STANDARD
BEGIN:DAYLIGHT
TZOFFSETFROM:-0600
TZOFFSETTO:-0500
TZNAME:CDT
DTSTART:20220313T080000
END:DAYLIGHT
BEGIN:STANDARD
TZOFFSETFROM:-0500
TZOFFSETTO:-0600
TZNAME:CST
DTSTART:20221106T070000
END:STANDARD
END:VTIMEZONE
BEGIN:VEVENT
DTSTART;VALUE=DATE:20211112
DTEND;VALUE=DATE:20211113
DTSTAMP:20260421T132943
CREATED:20210909T213314Z
LAST-MODIFIED:20210909T214005Z
UID:10000188-1636675200-1636761599@raphaelvillage.org
SUMMARY:Parent-Teacher Conferences - No School
DESCRIPTION:
URL:https://raphaelvillage.org/calendar/parent-teacher-conferences-no-school/
LOCATION:LA
CATEGORIES:Raphael Academy
END:VEVENT
BEGIN:VEVENT
DTSTART;TZID=America/Chicago:20211113T090000
DTEND;TZID=America/Chicago:20211113T110000
DTSTAMP:20260421T132943
CREATED:20211015T183916Z
LAST-MODIFIED:20211015T184218Z
UID:10000203-1636794000-1636801200@raphaelvillage.org
SUMMARY:Open House
DESCRIPTION:Join us at Raphael Academy for our first Open House of the Fall 2021 semester! \nStop in anytime between 9am-11am to chat with our faculty about our Waldorf curriculum\, arts programming\, and explore our school campus. \nTo RSVP\, or to request more information\, please email us at enrollment@raphaelvillage.org. \n500 Soraparu St\nNew Orleans\, LA 70130\n(504) 524-5955
URL:https://raphaelvillage.org/calendar/open-house-4/
LOCATION:Raphael Academy\, 500 Soraparu Street\, New Orleans\, LA\, 70130\, United States
CATEGORIES:Raphael Academy
ORGANIZER;CN="Matt Thekkethala":MAILTO:enrollment@raphaelvillage.org
END:VEVENT
END:VCALENDAR