BEGIN:VCALENDAR
VERSION:2.0
PRODID:-//Raphael Village - ECPv6.15.20//NONSGML v1.0//EN
CALSCALE:GREGORIAN
METHOD:PUBLISH
X-WR-CALNAME:Raphael Village
X-ORIGINAL-URL:https://raphaelvillage.org
X-WR-CALDESC:Events for Raphael Village
REFRESH-INTERVAL;VALUE=DURATION:PT1H
X-Robots-Tag:noindex
X-PUBLISHED-TTL:PT1H
BEGIN:VTIMEZONE
TZID:America/Chicago
BEGIN:DAYLIGHT
TZOFFSETFROM:-0600
TZOFFSETTO:-0500
TZNAME:CDT
DTSTART:20230312T080000
END:DAYLIGHT
BEGIN:STANDARD
TZOFFSETFROM:-0500
TZOFFSETTO:-0600
TZNAME:CST
DTSTART:20231105T070000
END:STANDARD
BEGIN:DAYLIGHT
TZOFFSETFROM:-0600
TZOFFSETTO:-0500
TZNAME:CDT
DTSTART:20240310T080000
END:DAYLIGHT
BEGIN:STANDARD
TZOFFSETFROM:-0500
TZOFFSETTO:-0600
TZNAME:CST
DTSTART:20241103T070000
END:STANDARD
BEGIN:DAYLIGHT
TZOFFSETFROM:-0600
TZOFFSETTO:-0500
TZNAME:CDT
DTSTART:20250309T080000
END:DAYLIGHT
BEGIN:STANDARD
TZOFFSETFROM:-0500
TZOFFSETTO:-0600
TZNAME:CST
DTSTART:20251102T070000
END:STANDARD
END:VTIMEZONE
BEGIN:VEVENT
DTSTART;VALUE=DATE:20240524
DTEND;VALUE=DATE:20240525
DTSTAMP:20260424T023440
CREATED:20240507T185217Z
LAST-MODIFIED:20240513T210326Z
UID:10000154-1716508800-1716595199@raphaelvillage.org
SUMMARY:Raphael Academy Graduation and Moving on up Ceremony
DESCRIPTION:Hi\, Please join us for a Graduation Celebration \nMay 24\, 2024\, Friday \nCongrats to our Raphael Academy Class of 2024! Families\, please check your email for more information and details.
URL:https://raphaelvillage.org/calendar/raphael-academy-graduation-and-moving-on-up-ceremony/
LOCATION:Raphael Academy\, 500 Soraparu Street\, New Orleans\, LA\, 70130\, United States
ORGANIZER;CN="Marianne Fieber":MAILTO:Admin@raphaelvillage.org
END:VEVENT
END:VCALENDAR