BEGIN:VCALENDAR
VERSION:2.0
PRODID:-//Raphael Village - ECPv6.15.20//NONSGML v1.0//EN
CALSCALE:GREGORIAN
METHOD:PUBLISH
X-WR-CALNAME:Raphael Village
X-ORIGINAL-URL:https://raphaelvillage.org
X-WR-CALDESC:Events for Raphael Village
REFRESH-INTERVAL;VALUE=DURATION:PT1H
X-Robots-Tag:noindex
X-PUBLISHED-TTL:PT1H
BEGIN:VTIMEZONE
TZID:America/Chicago
BEGIN:DAYLIGHT
TZOFFSETFROM:-0600
TZOFFSETTO:-0500
TZNAME:CDT
DTSTART:20230312T080000
END:DAYLIGHT
BEGIN:STANDARD
TZOFFSETFROM:-0500
TZOFFSETTO:-0600
TZNAME:CST
DTSTART:20231105T070000
END:STANDARD
BEGIN:DAYLIGHT
TZOFFSETFROM:-0600
TZOFFSETTO:-0500
TZNAME:CDT
DTSTART:20240310T080000
END:DAYLIGHT
BEGIN:STANDARD
TZOFFSETFROM:-0500
TZOFFSETTO:-0600
TZNAME:CST
DTSTART:20241103T070000
END:STANDARD
BEGIN:DAYLIGHT
TZOFFSETFROM:-0600
TZOFFSETTO:-0500
TZNAME:CDT
DTSTART:20250309T080000
END:DAYLIGHT
BEGIN:STANDARD
TZOFFSETFROM:-0500
TZOFFSETTO:-0600
TZNAME:CST
DTSTART:20251102T070000
END:STANDARD
END:VTIMEZONE
BEGIN:VEVENT
DTSTART;VALUE=DATE:20240527
DTEND;VALUE=DATE:20240528
DTSTAMP:20260424T023500
CREATED:20240513T210559Z
LAST-MODIFIED:20240513T210703Z
UID:10000155-1716768000-1716854399@raphaelvillage.org
SUMMARY:Memorial Day! NO PROGRAMMING\, CLOSED
DESCRIPTION:
URL:https://raphaelvillage.org/calendar/memorial-day-no-programming-closed/
LOCATION:The Guild\, 3401 Canal Street\, New Orleans\, LA\, 70119\, United States
ORGANIZER;CN="Jacqueline Case":MAILTO:jcase@raphaelvillage.org
END:VEVENT
END:VCALENDAR