BEGIN:VCALENDAR
VERSION:2.0
PRODID:-//Raphael Village - ECPv6.15.20//NONSGML v1.0//EN
CALSCALE:GREGORIAN
METHOD:PUBLISH
X-ORIGINAL-URL:https://raphaelvillage.org
X-WR-CALDESC:Events for Raphael Village
REFRESH-INTERVAL;VALUE=DURATION:PT1H
X-Robots-Tag:noindex
X-PUBLISHED-TTL:PT1H
BEGIN:VTIMEZONE
TZID:America/Chicago
BEGIN:DAYLIGHT
TZOFFSETFROM:-0600
TZOFFSETTO:-0500
TZNAME:CDT
DTSTART:20230312T080000
END:DAYLIGHT
BEGIN:STANDARD
TZOFFSETFROM:-0500
TZOFFSETTO:-0600
TZNAME:CST
DTSTART:20231105T070000
END:STANDARD
BEGIN:DAYLIGHT
TZOFFSETFROM:-0600
TZOFFSETTO:-0500
TZNAME:CDT
DTSTART:20240310T080000
END:DAYLIGHT
BEGIN:STANDARD
TZOFFSETFROM:-0500
TZOFFSETTO:-0600
TZNAME:CST
DTSTART:20241103T070000
END:STANDARD
BEGIN:DAYLIGHT
TZOFFSETFROM:-0600
TZOFFSETTO:-0500
TZNAME:CDT
DTSTART:20250309T080000
END:DAYLIGHT
BEGIN:STANDARD
TZOFFSETFROM:-0500
TZOFFSETTO:-0600
TZNAME:CST
DTSTART:20251102T070000
END:STANDARD
END:VTIMEZONE
BEGIN:VEVENT
DTSTART;VALUE=DATE:20240506
DTEND;VALUE=DATE:20240511
DTSTAMP:20260419T213839
CREATED:20240422T175117Z
LAST-MODIFIED:20240422T175117Z
UID:10000151-1714953600-1715385599@raphaelvillage.org
SUMMARY:Teacher's Appreciation WEEK
DESCRIPTION:Hi Parents and Guardians\, \n  \nIt’s Teacher’s appreciate week and we couldn’t be more thankful for our Co Worker Teachers here at The Guild and Raphael Academy. Please help us make our Teacher’s feel appreciated during this week. We are grateful for all that you all do.
URL:https://raphaelvillage.org/calendar/teachers-appreciation-week/
LOCATION:The Guild\, 3401 Canal Street\, New Orleans\, LA\, 70119\, United States
ORGANIZER;CN="Bianca Jordan":MAILTO:info@raphaelvillage.org
END:VEVENT
END:VCALENDAR