BEGIN:VCALENDAR
VERSION:2.0
PRODID:-//Raphael Village - ECPv6.15.20//NONSGML v1.0//EN
CALSCALE:GREGORIAN
METHOD:PUBLISH
X-WR-CALNAME:Raphael Village
X-ORIGINAL-URL:https://raphaelvillage.org
X-WR-CALDESC:Events for Raphael Village
REFRESH-INTERVAL;VALUE=DURATION:PT1H
X-Robots-Tag:noindex
X-PUBLISHED-TTL:PT1H
BEGIN:VTIMEZONE
TZID:America/Chicago
BEGIN:DAYLIGHT
TZOFFSETFROM:-0600
TZOFFSETTO:-0500
TZNAME:CDT
DTSTART:20230312T080000
END:DAYLIGHT
BEGIN:STANDARD
TZOFFSETFROM:-0500
TZOFFSETTO:-0600
TZNAME:CST
DTSTART:20231105T070000
END:STANDARD
BEGIN:DAYLIGHT
TZOFFSETFROM:-0600
TZOFFSETTO:-0500
TZNAME:CDT
DTSTART:20240310T080000
END:DAYLIGHT
BEGIN:STANDARD
TZOFFSETFROM:-0500
TZOFFSETTO:-0600
TZNAME:CST
DTSTART:20241103T070000
END:STANDARD
BEGIN:DAYLIGHT
TZOFFSETFROM:-0600
TZOFFSETTO:-0500
TZNAME:CDT
DTSTART:20250309T080000
END:DAYLIGHT
BEGIN:STANDARD
TZOFFSETFROM:-0500
TZOFFSETTO:-0600
TZNAME:CST
DTSTART:20251102T070000
END:STANDARD
END:VTIMEZONE
BEGIN:VEVENT
DTSTART;TZID=America/Chicago:20241018T080000
DTEND;TZID=America/Chicago:20241018T140000
DTSTAMP:20260421T163826
CREATED:20241014T171451Z
LAST-MODIFIED:20241014T171451Z
UID:10000239-1729238400-1729260000@raphaelvillage.org
SUMMARY:Oktoberfest at Dragonfly Café
DESCRIPTION:CLICK HERE TO PLACE PRE-ORDERS \nPre-orders must be placed by Thursday\, October 17
URL:https://raphaelvillage.org/calendar/oktoberfest-at-dragonfly-cafe/
LOCATION:DragonFly Cafe\, 530 Jackson Ave\, New Orleans\, LA\, 70130\, United States
END:VEVENT
BEGIN:VEVENT
DTSTART;TZID=America/Chicago:20240510T090000
DTEND;TZID=America/Chicago:20240510T130000
DTSTAMP:20260421T163826
CREATED:20240422T204434Z
LAST-MODIFIED:20240507T184533Z
UID:10000152-1715331600-1715346000@raphaelvillage.org
SUMMARY:Guild Market
DESCRIPTION:  \nFRIDAY\, MAY 10 \n9AM – 1PM 530 JACKSON AVE.\nMARKET \ninfo@raphaelvillage.org \nPlease Join Us for our Spring Market Fest \nThere will be\nLocal artists\, makers\, & vendors\nJewelry\, art\, home goods\, & more \nSupport Raphael Village Guild Members\nFood by The Dragonfly Café + Market! \nRSVP on Facebook: https://www.facebook.com/events/992899955730089/\nInterested in being a vendor? Register here: https://forms.gle/3pw8DvU32GFQj7ea8
URL:https://raphaelvillage.org/calendar/guild-market/
LOCATION:DragonFly Cafe\, 530 Jackson Ave\, New Orleans\, LA\, 70130\, United States
CATEGORIES:DragonFly Cafe
ORGANIZER;CN="Jacqueline Case":MAILTO:jcase@raphaelvillage.org
END:VEVENT
END:VCALENDAR